BEGIN:VCALENDAR
VERSION:2.0
PRODID:-//Squarespace Inc/Squarespace 6//v6//EN
BEGIN:VEVENT
UID:562fe394e4b097e3328b0e66@squarespace.com
DTSTAMP:20151027T205551Z
DTSTART:20151108T150000Z
DTEND:20151108T210000Z
SUMMARY:Working Bee at the Kindy
GEO:-37.408272;175.942917
LOCATION:76 Dillon Street\, Waihi Beach\, Bay Of Plenty\, 3611\, New Zealan
 d
END:VEVENT
END:VCALENDAR
