BEGIN:VCALENDAR
VERSION:2.0
PRODID:-//Squarespace Inc/Squarespace 6//v6//EN
BEGIN:VEVENT
UID:56344cd0e4b017e2546aa846@squarespace.com
DTSTAMP:20151031T050942Z
DTSTART:20151113T140000Z
DTEND:20151113T150000Z
SUMMARY:Flight Friday - ???
END:VEVENT
END:VCALENDAR
